BEGIN:VCALENDAR
VERSION:2.0
PRODID:-//Tampa York Rite Masonic Bodies - ECPv6.15.17.1//NONSGML v1.0//EN
CALSCALE:GREGORIAN
METHOD:PUBLISH
X-ORIGINAL-URL:https://tampayorkritebodies.com
X-WR-CALDESC:Events for Tampa York Rite Masonic Bodies
REFRESH-INTERVAL;VALUE=DURATION:PT1H
X-Robots-Tag:noindex
X-PUBLISHED-TTL:PT1H
BEGIN:VTIMEZONE
TZID:America/New_York
BEGIN:DAYLIGHT
TZOFFSETFROM:-0500
TZOFFSETTO:-0400
TZNAME:EDT
DTSTART:20250309T070000
END:DAYLIGHT
BEGIN:STANDARD
TZOFFSETFROM:-0400
TZOFFSETTO:-0500
TZNAME:EST
DTSTART:20251102T060000
END:STANDARD
BEGIN:DAYLIGHT
TZOFFSETFROM:-0500
TZOFFSETTO:-0400
TZNAME:EDT
DTSTART:20260308T070000
END:DAYLIGHT
BEGIN:STANDARD
TZOFFSETFROM:-0400
TZOFFSETTO:-0500
TZNAME:EST
DTSTART:20261101T060000
END:STANDARD
BEGIN:DAYLIGHT
TZOFFSETFROM:-0500
TZOFFSETTO:-0400
TZNAME:EDT
DTSTART:20270314T070000
END:DAYLIGHT
BEGIN:STANDARD
TZOFFSETFROM:-0400
TZOFFSETTO:-0500
TZNAME:EST
DTSTART:20271107T060000
END:STANDARD
END:VTIMEZONE
BEGIN:VEVENT
DTSTART;TZID=America/New_York:20260602T183000
DTEND;TZID=America/New_York:20260602T203000
DTSTAMP:20260420T092656
CREATED:20251221T183819Z
LAST-MODIFIED:20251221T183819Z
UID:23121-1780425000-1780432200@tampayorkritebodies.com
SUMMARY:Tampa Cushing Chapter No. 3 Stated Meeting
DESCRIPTION:Tampa Cushing Chapter No. 3 Stated Meeting \nPotluck Dinner will be at 6:30 PM; Tampa Cushing Chapter No. 3 Stated meeting will begin at 7:30 PM. Tampa Council No. 8 will hold a Stated meeting following the Tampa Cushing Chapter No. 3 Stated meeting.
URL:https://tampayorkritebodies.com/event/tampa-cushing-chapter-no-3-stated-meeting-5/
LOCATION:Tampa York Rite Masonic Bodies\, 4210 W Oklahoma Avenue\, Tampa\, FL\, 33616\, United States
CATEGORIES:Meetings
ATTACH;FMTTYPE=image/png:https://tampayorkritebodies.com/wp-content/uploads/2025/07/chapter-200t-e1759928600878.png
END:VEVENT
BEGIN:VEVENT
DTSTART;TZID=America/New_York:20260602T203000
DTEND;TZID=America/New_York:20260602T213000
DTSTAMP:20260420T092656
CREATED:20251221T183933Z
LAST-MODIFIED:20251221T183933Z
UID:23124-1780432200-1780435800@tampayorkritebodies.com
SUMMARY:Tampa Council No.8 Stated Meeting
DESCRIPTION:Tampa Council No.8 Stated Meeting \nTampa Council No. 8 will hold a stated meeting following the Tampa Cushing Chapter No. 3 stated meeting. \nPotluck Dinner will be at 6:30 PM; Tampa Cushing Chapter No. 3 Stated meeting will begin at 7:30 PM.
URL:https://tampayorkritebodies.com/event/tampa-council-no-8-stated-meeting-7/
LOCATION:Tampa York Rite Masonic Bodies\, 4210 W Oklahoma Avenue\, Tampa\, FL\, 33616\, United States
CATEGORIES:Meetings
ATTACH;FMTTYPE=image/png:https://tampayorkritebodies.com/wp-content/uploads/2025/07/council150-e1759928821803.png
END:VEVENT
BEGIN:VEVENT
DTSTART;TZID=America/New_York:20260615T080000
DTEND;TZID=America/New_York:20260617T170000
DTSTAMP:20260420T092656
CREATED:20251212T144322Z
LAST-MODIFIED:20251212T144322Z
UID:23065-1781510400-1781715600@tampayorkritebodies.com
SUMMARY:Grand York Rite of Florida Grand Communication
DESCRIPTION:Grand York Rite of Florida Grand Communication \nOrlando Marriott Lake Mary Florida
URL:https://tampayorkritebodies.com/event/grand-york-rite-of-florida-grand-communication/
LOCATION:Orlando Marriott Lake Mary\, 1501 International Parkway\, Lake Mary\, FL\, 32746\, United States
CATEGORIES:Grand York Rite event
ATTACH;FMTTYPE=image/png:https://tampayorkritebodies.com/wp-content/uploads/2025/08/placeholder.png
END:VEVENT
BEGIN:VEVENT
DTSTART;TZID=America/New_York:20260620T183000
DTEND;TZID=America/New_York:20260620T203000
DTSTAMP:20260420T092656
CREATED:20251212T140912Z
LAST-MODIFIED:20251212T145125Z
UID:23042-1781980200-1781987400@tampayorkritebodies.com
SUMMARY:Tampa-Ivanhoe Commandery No.8 Stated Meeting
DESCRIPTION:Tampa-Ivanhoe Commandery No. 8 Stated Meeting \nTampa-Ivanhoe Commandery No. 8; There will be a potluck dinner at 6:30 PM and stated meeting will begin at 7:30 PM.
URL:https://tampayorkritebodies.com/event/tampa-ivanhoe-commandery-no-8-stated-meeting-4/
LOCATION:Tampa York Rite Masonic Bodies\, 4210 W Oklahoma Avenue\, Tampa\, FL\, 33616\, United States
CATEGORIES:Meetings
ATTACH;FMTTYPE=image/png:https://tampayorkritebodies.com/wp-content/uploads/2025/07/Tampa-Ivanhoe-Commandry.png
END:VEVENT
END:VCALENDAR