BEGIN:VCALENDAR
VERSION:2.0
PRODID:-//Tampa York Rite Masonic Bodies - ECPv6.15.17.1//NONSGML v1.0//EN
CALSCALE:GREGORIAN
METHOD:PUBLISH
X-WR-CALNAME:Tampa York Rite Masonic Bodies
X-ORIGINAL-URL:https://tampayorkritebodies.com
X-WR-CALDESC:Events for Tampa York Rite Masonic Bodies
REFRESH-INTERVAL;VALUE=DURATION:PT1H
X-Robots-Tag:noindex
X-PUBLISHED-TTL:PT1H
BEGIN:VTIMEZONE
TZID:America/New_York
BEGIN:DAYLIGHT
TZOFFSETFROM:-0500
TZOFFSETTO:-0400
TZNAME:EDT
DTSTART:20250309T070000
END:DAYLIGHT
BEGIN:STANDARD
TZOFFSETFROM:-0400
TZOFFSETTO:-0500
TZNAME:EST
DTSTART:20251102T060000
END:STANDARD
BEGIN:DAYLIGHT
TZOFFSETFROM:-0500
TZOFFSETTO:-0400
TZNAME:EDT
DTSTART:20260308T070000
END:DAYLIGHT
BEGIN:STANDARD
TZOFFSETFROM:-0400
TZOFFSETTO:-0500
TZNAME:EST
DTSTART:20261101T060000
END:STANDARD
BEGIN:DAYLIGHT
TZOFFSETFROM:-0500
TZOFFSETTO:-0400
TZNAME:EDT
DTSTART:20270314T070000
END:DAYLIGHT
BEGIN:STANDARD
TZOFFSETFROM:-0400
TZOFFSETTO:-0500
TZNAME:EST
DTSTART:20271107T060000
END:STANDARD
END:VTIMEZONE
BEGIN:VEVENT
DTSTART;TZID=America/New_York:20260523T183000
DTEND;TZID=America/New_York:20260523T203000
DTSTAMP:20260420T074300
CREATED:20251212T140544Z
LAST-MODIFIED:20251212T144910Z
UID:23038-1779561000-1779568200@tampayorkritebodies.com
SUMMARY:Tampa-Ivanhoe Commandery No. 8 Stated Meeting
DESCRIPTION:Tampa-Ivanhoe Commandery No. 8 Stated Meeting \nTampa-Ivanhoe Commandery No. 8; There will be a potluck dinner at 6:30 PM and stated meeting will begin at 7:30 PM.
URL:https://tampayorkritebodies.com/event/tampa-ivanhoe-commandery-no-8-stated-meeting-3/
LOCATION:Tampa York Rite Masonic Bodies\, 4210 W Oklahoma Avenue\, Tampa\, FL\, 33616\, United States
ATTACH;FMTTYPE=image/jpeg:https://tampayorkritebodies.com/wp-content/uploads/2025/07/Tampa-Ivanhoe-Commandry.jpg
END:VEVENT
END:VCALENDAR